BEGIN:VCALENDAR
VERSION:2.0
PRODID:-//ExhibitionMatches.com//NONSGML v1.0//EN
BEGIN:VEVENT
UID=0F87E005-DE74-A0DA-72D27D4B344ABD9F
DTSTAMP=20260422T053346Z
DTSTART;VALUE=DATE:20260709
DTEND;VALUE=DATE:20260719
SUMMARY:2026 U.S. Marine Corps Junior Nationals
LOCATION:Fargo Dome, 1800 N University Dr, Fargo, ND, 58102
DESCRIPTION:View full event details: https://wrestlingtournaments.org/view.cfm?ID=88715
Contact: Christina Hargrove chargrove@usawrestling.org
URL;VALUE=URI:https://wrestlingtournaments.org/view.cfm?ID=88715
END:VEVENT
END:VCALENDAR