BEGIN:VCALENDAR
VERSION:2.0
PRODID:-//ExhibitionMatches.com//NONSGML v1.0//EN
BEGIN:VEVENT
UID=0F8966B0-E7D5-781A-FD148015C7FAC364
DTSTAMP=20260422T053356Z
DTSTART;VALUE=DATE:20260625
DTEND;VALUE=DATE:20260629
SUMMARY:2026 USA Wrestling Kids Freestyle &amp; Greco-Roman Nationals
LOCATION:Alliant Energy PowerHouse, 370 1st Ave NE, Cedar Rapids, IA, 52401
DESCRIPTION:View full event details: https://wrestlingtournaments.org/view.cfm?ID=88701
Contact: Christina Hargrove treasurer@iowausawrestling.org
URL;VALUE=URI:https://wrestlingtournaments.org/view.cfm?ID=88701
END:VEVENT
END:VCALENDAR