BEGIN:VCALENDAR
VERSION:2.0
PRODID:-//ExhibitionMatches.com//NONSGML v1.0//EN
BEGIN:VEVENT
UID=EE07B4BD-F79F-205E-1431F3103FE5154D
DTSTAMP=20260421T135701Z
DTSTART;VALUE=DATE:20260707
DTEND;VALUE=DATE:20260709
SUMMARY:Wisconsin Wrestling Federations Fargo Freestyle Camp
LOCATION:University of Wisconsin-Eau Claire (The Sonnentag Center), 1075 Menomonie St, Eau Claire, WI, 54703
DESCRIPTION:View full event details: https://wrestlingtournaments.org/view.cfm?ID=107080
Contact: Scott Kluever wwfstatecoach@yahoo.com
URL;VALUE=URI:https://wrestlingtournaments.org/view.cfm?ID=107080
END:VEVENT
END:VCALENDAR