BEGIN:VCALENDAR
VERSION:2.0
PRODID:-//ExhibitionMatches.com//NONSGML v1.0//EN
BEGIN:VEVENT
UID=EE2C8AF7-C404-43EC-491649DDE79B0F6D
DTSTAMP=20260421T140103Z
DTSTART;VALUE=DATE:20260701
DTEND;VALUE=DATE:20260702
SUMMARY:Wisconsin Wrestling Federation Fargo Team Wrestle Offs
LOCATION:AWA, N331 Brandenburg Ave, Wausau, WI, 54401
DESCRIPTION:View full event details: https://wrestlingtournaments.org/view.cfm?ID=107076
Contact: Scott Kluever wwfstatecoach@yahoo.com
URL;VALUE=URI:https://wrestlingtournaments.org/view.cfm?ID=107076
END:VEVENT
END:VCALENDAR