BEGIN:VCALENDAR
VERSION:2.0
PRODID:-//ExhibitionMatches.com//NONSGML v1.0//EN
BEGIN:VEVENT
UID=EE309C0F-FF88-0988-07E85A979DF543C5
DTSTAMP=20260421T140129Z
DTSTART;VALUE=DATE:20260711
DTEND;VALUE=DATE:20260712
SUMMARY:Viroqua Summer Tournament
LOCATION:Viroqua High School, 100 Blackhawk Drive, Viroqua, WI, 54665
DESCRIPTION:View full event details: https://wrestlingtournaments.org/view.cfm?ID=106967
Contact: Graham Cassellius cassellhollowfarm@gmail.com
URL;VALUE=URI:https://wrestlingtournaments.org/view.cfm?ID=106967
END:VEVENT
END:VCALENDAR