BEGIN:VCALENDAR
VERSION:2.0
PRODID:-//ExhibitionMatches.com//NONSGML v1.0//EN
BEGIN:VEVENT
UID=EE1B0D9C-A453-CA84-A6C52BA78ECAA5C9
DTSTAMP=20260421T135908Z
DTSTART;VALUE=DATE:20260711
DTEND;VALUE=DATE:20260713
SUMMARY:Wisconsin Wrestling Federations Fargo Greco Camp
LOCATION:University of Wisconsin-Eau Claire (The Sonnentag Center), 1075 Menomonie St, Eau Claire, WI, 54703
DESCRIPTION:View full event details: https://wrestlingtournaments.org/view.cfm?ID=106961
Contact: Scott Kluever wwfstatecoach@yahoo.com
URL;VALUE=URI:https://wrestlingtournaments.org/view.cfm?ID=106961
END:VEVENT
END:VCALENDAR